BEGIN:VCALENDAR
VERSION:2.0
PRODID:-//Sabre//Sabre VObject 4.5.8//EN
CALSCALE:GREGORIAN
BEGIN:VEVENT
UID:sabre-vobject-4a757a66-4229-485f-ab4d-bf4b10605759
DTSTAMP:20260420T134337Z
SUMMARY:Leseglück trifft Gaumenfreude
DESCRIPTION:https://keb-donauries.de/veranstaltungen/leseglueck-trifft-gaum
 enfreude_id327215
DTSTART;TZID=Europe/Berlin:20260422T190000
LOCATION:Bücherei Fünfstetten\, Indorf 15\, 86681 Fünfstetten
END:VEVENT
END:VCALENDAR
