BEGIN:VCALENDAR
VERSION:2.0
PRODID:-//Sabre//Sabre VObject 4.5.8//EN
CALSCALE:GREGORIAN
BEGIN:VEVENT
UID:sabre-vobject-1b307c9b-f160-4a24-8620-03a6e42a1ea3
DTSTAMP:20260422T005409Z
SUMMARY:Bildungsfahrt zum Holunderhof Lohe "Aus Liebe und Achtung zur Natur
 "
DESCRIPTION:https://keb-donauries.de/veranstaltungen/bildungsfahrt-zum-holu
 nderhof-lohe-aus-liebe-und-achtung-zur-natur_id327213
DTSTART;TZID=Europe/Berlin:20260625T193000
LOCATION:Holunderhof Lohe\, Lohe 2\, 86732 Oettingen in Bayern
END:VEVENT
END:VCALENDAR
