BEGIN:VCALENDAR
VERSION:2.0
PRODID:-//Sabre//Sabre VObject 4.5.8//EN
CALSCALE:GREGORIAN
BEGIN:VEVENT
UID:sabre-vobject-3335ef20-93a3-4370-b8c1-c373b9e2ad88
DTSTAMP:20260426T003250Z
SUMMARY:Wildfrüchte aus unserer einheimischen Hecke
DESCRIPTION:https://keb-donauries.de/veranstaltungen/wildfruechte-aus-unser
 er-einheimischen-hecke_id327064
DTSTART;TZID=Europe/Berlin:20261105T140000
LOCATION:Kolpinghaus Wemding\, Adolf-Kolping-Straße 7\, 86650 Wemding
END:VEVENT
END:VCALENDAR
