BEGIN:VCALENDAR
VERSION:2.0
PRODID:-//Sabre//Sabre VObject 4.5.8//EN
CALSCALE:GREGORIAN
BEGIN:VEVENT
UID:sabre-vobject-961322ac-a81f-409a-ad48-d5653b4814ec
DTSTAMP:20260423T131212Z
SUMMARY:Eltern-Kind-Gruppe Krabbelgruppe Deiningen Mittwoch
DESCRIPTION:https://keb-donauries.de/veranstaltungen/eltern-kind-gruppe-kra
 bbelgruppe-deiningen-mittwoch_id326241
DTSTART;TZID=Europe/Berlin:20260624T090000
DTEND;TZID=Europe/Berlin:20260624T103000
LOCATION:Kath. Pfarrheim Deiningen\, St.-Martin-Straße 6\, 86738 Deiningen
END:VEVENT
END:VCALENDAR
