BEGIN:VCALENDAR
VERSION:2.0
PRODID:-//Sabre//Sabre VObject 4.5.8//EN
CALSCALE:GREGORIAN
BEGIN:VEVENT
UID:sabre-vobject-6338a99b-7f24-4c90-8420-1f1a773ec9ea
DTSTAMP:20260422T174143Z
SUMMARY:Eltern-Kind-Gruppe Krabbelgruppe Deiningen Mittwoch
DESCRIPTION:https://keb-donauries.de/veranstaltungen/eltern-kind-gruppe-kra
 bbelgruppe-deiningen-mittwoch_id326236
DTSTART;TZID=Europe/Berlin:20260506T090000
DTEND;TZID=Europe/Berlin:20260506T103000
LOCATION:Kath. Pfarrheim Deiningen\, St.-Martin-Straße 6\, 86738 Deiningen
END:VEVENT
END:VCALENDAR
