BEGIN:VCALENDAR
VERSION:2.0
PRODID:-//Sabre//Sabre VObject 4.5.8//EN
CALSCALE:GREGORIAN
BEGIN:VEVENT
UID:sabre-vobject-fa9ce84d-2aad-4f9d-961d-d5fda45aa34e
DTSTAMP:20260421T090046Z
SUMMARY:Osterbrunnen gestalten - Bedeutung des Osterbrunnen
DESCRIPTION:https://keb-donauries.de/veranstaltungen/osterbrunnen-gestalten
 -bedeutung-des-osterbrunnen_id323103
DTSTART;TZID=Europe/Berlin:20260318T140000
LOCATION:Osterbrunnen\, Hauptstraße 16\, 86694 Niederschönenfeld
END:VEVENT
END:VCALENDAR
