BEGIN:VCALENDAR
VERSION:2.0
PRODID:-//Sabre//Sabre VObject 4.5.8//EN
CALSCALE:GREGORIAN
BEGIN:VEVENT
UID:sabre-vobject-eceaddf4-ba03-40af-baf3-e926e4c7d210
DTSTAMP:20260423T143736Z
SUMMARY:Dichterlesung
DESCRIPTION:https://keb-donauries.de/veranstaltungen/dichterlesung_id323075
DTSTART;TZID=Europe/Berlin:20261109T143000
LOCATION:Pfarrsaal St. Salvator Nördlingen\, Salvatorgasse 12\, 86720 Nör
 dlingen
END:VEVENT
END:VCALENDAR
