BEGIN:VCALENDAR
VERSION:2.0
PRODID:-//Sabre//Sabre VObject 4.5.8//EN
CALSCALE:GREGORIAN
BEGIN:VEVENT
UID:sabre-vobject-c8ebcde3-3018-4be7-b06c-7cd1864a1c3d
DTSTAMP:20260423T143913Z
SUMMARY:Stadtmauerfest 2025
DESCRIPTION:https://keb-donauries.de/veranstaltungen/stadtmauerfest-2025_id
 323073
DTSTART;TZID=Europe/Berlin:20260713T143000
LOCATION:Pfarrsaal St. Salvator Nördlingen\, Salvatorgasse 12\, 86720 Nör
 dlingen
END:VEVENT
END:VCALENDAR
