BEGIN:VCALENDAR
VERSION:2.0
PRODID:-//Sabre//Sabre VObject 4.5.8//EN
CALSCALE:GREGORIAN
BEGIN:VEVENT
UID:sabre-vobject-2728355f-3602-4026-bf52-7dbed2852ab3
DTSTAMP:20260423T141731Z
SUMMARY:Heiligsprechung v. Carlo Acutis
DESCRIPTION:https://keb-donauries.de/veranstaltungen/heiligsprechung-v-carl
 o-acutis_id323072
DTSTART;TZID=Europe/Berlin:20260608T143000
LOCATION:Pfarrsaal St. Salvator Nördlingen\, Salvatorgasse 12\, 86720 Nör
 dlingen
END:VEVENT
END:VCALENDAR
