BEGIN:VCALENDAR
VERSION:2.0
PRODID:-//Sabre//Sabre VObject 4.5.8//EN
CALSCALE:GREGORIAN
BEGIN:VEVENT
UID:sabre-vobject-e67eb2ae-0cdb-49e6-b763-72b0444f2014
DTSTAMP:20260423T142938Z
SUMMARY:Bildungsfahrt nach Wemding in die Hostienbäckerei
DESCRIPTION:https://keb-donauries.de/veranstaltungen/bildungsfahrt-nach-wem
 ding-in-die-hostienbaeckerei_id323070
DTSTART;TZID=Europe/Berlin:20260518T140000
LOCATION:Pfarrsaal St. Salvator Nördlingen\, Salvatorgasse 12\, 86720 Nör
 dlingen
END:VEVENT
END:VCALENDAR
