BEGIN:VCALENDAR
VERSION:2.0
PRODID:-//Sabre//Sabre VObject 4.5.8//EN
CALSCALE:GREGORIAN
BEGIN:VEVENT
UID:sabre-vobject-e0f10a43-82e2-4c86-9732-9c590287b454
DTSTAMP:20260423T143000Z
SUMMARY:Geschichten um das Adventsgebäck
DESCRIPTION:https://keb-donauries.de/veranstaltungen/geschichten-um-das-adv
 entsgebaeck_id323068
DTSTART;TZID=Europe/Berlin:20261214T143000
LOCATION:Pfarrsaal St. Salvator Nördlingen\, Salvatorgasse 12\, 86720 Nör
 dlingen
END:VEVENT
END:VCALENDAR
