BEGIN:VCALENDAR
VERSION:2.0
PRODID:-//Sabre//Sabre VObject 4.5.8//EN
CALSCALE:GREGORIAN
BEGIN:VEVENT
UID:sabre-vobject-83ecf053-14b5-4170-b993-0620532f0861
DTSTAMP:20260421T103331Z
SUMMARY:Kloster St. Elisabeth in Neuburg
DESCRIPTION:https://keb-donauries.de/veranstaltungen/kloster-st-elisabeth-i
 n-neuburg_id322973
DTSTART;TZID=Europe/Berlin:20260317T140000
LOCATION:Nadlerhaus Rögling\, Bgm.-Böswald-Straße 10\, 86703 Rögling
END:VEVENT
END:VCALENDAR
