BEGIN:VCALENDAR
VERSION:2.0
PRODID:-//Sabre//Sabre VObject 4.5.8//EN
CALSCALE:GREGORIAN
BEGIN:VEVENT
UID:sabre-vobject-7681e829-80f1-4c3a-a07b-f5e4b9d47b24
DTSTAMP:20260423T193325Z
SUMMARY:"Kontakte und Hilfen KONKRET - Gut\, in die neue Amtszeit starten"
DESCRIPTION:https://keb-donauries.de/veranstaltungen/kontakte-und-hilfen-ko
 nkret-gut-in-die-neue-amtszeit-starten_id322963
DTSTART;TZID=Europe/Berlin:20260505T190000
LOCATION:Pfarrheim St. Salvator\, Salvatorgäßchen 2\, 86720 Nördlingen
END:VEVENT
END:VCALENDAR
