BEGIN:VCALENDAR
VERSION:2.0
PRODID:-//Sabre//Sabre VObject 4.5.8//EN
CALSCALE:GREGORIAN
BEGIN:VEVENT
UID:sabre-vobject-e8a608b4-3450-4c29-b620-15e02cadf430
DTSTAMP:20260423T142031Z
SUMMARY:doTERRA Öle - die kleine Hausapotheke
DESCRIPTION:https://keb-donauries.de/veranstaltungen/doterra-oele-die-klein
 e-hausapotheke_id321017
DTSTART;TZID=Europe/Berlin:20261114T100000
LOCATION:Pfarrsaal St. Salvator Nördlingen\, Salvatorgasse 12\, 86720 Nör
 dlingen
END:VEVENT
END:VCALENDAR
