BEGIN:VCALENDAR
VERSION:2.0
PRODID:-//Sabre//Sabre VObject 4.5.8//EN
CALSCALE:GREGORIAN
BEGIN:VEVENT
UID:sabre-vobject-0503c912-751d-4f9a-b96b-25616e5659b8
DTSTAMP:20260423T142858Z
SUMMARY:Zumba - Tanz und Musik - zum Kennenlernen
DESCRIPTION:https://keb-donauries.de/veranstaltungen/zumba-tanz-und-musik-z
 um-kennenlernen_id321015
DTSTART;TZID=Europe/Berlin:20261008T183000
LOCATION:Pfarrsaal St. Salvator Nördlingen\, Salvatorgasse 12\, 86720 Nör
 dlingen
END:VEVENT
END:VCALENDAR
