BEGIN:VCALENDAR
VERSION:2.0
PRODID:-//Sabre//Sabre VObject 4.5.8//EN
CALSCALE:GREGORIAN
BEGIN:VEVENT
UID:sabre-vobject-30225394-ffd3-493d-8f7f-f2017c65a6c0
DTSTAMP:20260421T104312Z
SUMMARY:Gemeinde Mertingen
DESCRIPTION:https://keb-donauries.de/veranstaltungen/gemeinde-mertingen_id3
 21003
DTSTART;TZID=Europe/Berlin:20260324T140000
LOCATION:Pfarrheim\, Hilaria-Lechner-Straße 1\, 86690 Mertingen
END:VEVENT
END:VCALENDAR
