BEGIN:VCALENDAR
VERSION:2.0
PRODID:-//Sabre//Sabre VObject 4.5.8//EN
CALSCALE:GREGORIAN
BEGIN:VEVENT
UID:sabre-vobject-4b8fc47d-910b-441a-835b-5deaebc5956b
DTSTAMP:20260421T085927Z
SUMMARY:Gymnastik für Senioren - Altersgerechtes Bewegen unter Anleitung
DESCRIPTION:https://keb-donauries.de/veranstaltungen/gymnastik-fuer-seniore
 n-altersgerechtes-bewegen-unter-anleitung_id320786
DTSTART;TZID=Europe/Berlin:20260304T093000
DTEND;TZID=Europe/Berlin:20260304T103000
LOCATION:Pfarrhof Marktoffingen\, Hauptstraße 20\, 86748 Marktoffingen
END:VEVENT
END:VCALENDAR
