BEGIN:VCALENDAR
VERSION:2.0
PRODID:-//Sabre//Sabre VObject 4.5.8//EN
CALSCALE:GREGORIAN
BEGIN:VEVENT
UID:sabre-vobject-04a5940f-1715-4d7c-abf8-baf0c26a7518
DTSTAMP:20260421T134149Z
SUMMARY:Moderiertes Konzert mit De Lumina Chor
DESCRIPTION:https://keb-donauries.de/veranstaltungen/moderiertes-konzert-mi
 t-de-lumina-chor_id317430
DTSTART;TZID=Europe/Berlin:20260712T180000
LOCATION:Nadlerhaus Rögling\, Bgm.-Böswald-Straße 10\, 86703 Rögling
END:VEVENT
END:VCALENDAR
