BEGIN:VCALENDAR
VERSION:2.0
PRODID:-//Sabre//Sabre VObject 4.5.8//EN
CALSCALE:GREGORIAN
BEGIN:VEVENT
UID:sabre-vobject-471b91cc-d3bf-4f02-81e0-2d1b8bcd61c9
DTSTAMP:20260423T143807Z
SUMMARY:Wanderung nach Herkheim
DESCRIPTION:https://keb-donauries.de/veranstaltungen/wanderung-nach-herkhei
 m_id317092
DTSTART;TZID=Europe/Berlin:20260901T170000
LOCATION:Pfarrsaal St. Salvator Nördlingen\, Salvatorgasse 12\, 86720 Nör
 dlingen
END:VEVENT
END:VCALENDAR
