BEGIN:VCALENDAR
VERSION:2.0
PRODID:-//Sabre//Sabre VObject 4.5.8//EN
CALSCALE:GREGORIAN
BEGIN:VEVENT
UID:sabre-vobject-30f90c39-a61c-46ba-8ff8-4424bcd8909a
DTSTAMP:20260421T183720Z
SUMMARY:Auf den Spuren der Kirchenpatronin St. Magdalena
DESCRIPTION:https://keb-donauries.de/veranstaltungen/auf-den-spuren-der-kir
 chenpatronin-st-magdalena_id317091
DTSTART;TZID=Europe/Berlin:20260722T173000
LOCATION:St. Georgskirche Nördlingen\, Marktplatz\, 86720 Nördlingen
END:VEVENT
END:VCALENDAR
