BEGIN:VCALENDAR
VERSION:2.0
PRODID:-//Sabre//Sabre VObject 4.5.8//EN
CALSCALE:GREGORIAN
BEGIN:VEVENT
UID:sabre-vobject-0cc0b1d0-5e6b-4738-8dad-59b6ae245032
DTSTAMP:20260422T003234Z
SUMMARY:Bildungsfahrt nach Lohe zum Holunderhof
DESCRIPTION:https://keb-donauries.de/veranstaltungen/bildungsfahrt-nach-loh
 e-zum-holunderhof_id317089
DTSTART;TZID=Europe/Berlin:20260424T180000
LOCATION:Holunderhof Lohe\, Lohe 2\, 86732 Oettingen in Bayern
END:VEVENT
END:VCALENDAR
