BEGIN:VCALENDAR
VERSION:2.0
PRODID:-//Sabre//Sabre VObject 4.5.8//EN
CALSCALE:GREGORIAN
BEGIN:VEVENT
UID:sabre-vobject-2c6cc710-971b-401f-95b9-9ba9eed2987f
DTSTAMP:20260425T135854Z
SUMMARY:Gymnastik für Senioren - Altersgerechtes Bewegen unter Anleitung
DESCRIPTION:https://keb-donauries.de/veranstaltungen/gymnastik-fuer-seniore
 n-altersgerechtes-bewegen-unter-anleitung_id311545
DTSTART;TZID=Europe/Berlin:20260427T160000
DTEND;TZID=Europe/Berlin:20260427T164500
LOCATION:Grundschulturnhalle\, Oettinger Straße 16\, 86650 Wemding
END:VEVENT
END:VCALENDAR
