BEGIN:VCALENDAR
VERSION:2.0
PRODID:-//Sabre//Sabre VObject 4.5.8//EN
CALSCALE:GREGORIAN
BEGIN:VEVENT
UID:sabre-vobject-70839d60-6747-440d-b8e1-16a570a2451a
DTSTAMP:20260422T142120Z
SUMMARY:Gymnastik für Senioren - Altersgerechtes Bewegen unter Anleitung
DESCRIPTION:https://keb-donauries.de/veranstaltungen/gymnastik-fuer-seniore
 n-altersgerechtes-bewegen-unter-anleitung_id311516
DTSTART;TZID=Europe/Berlin:20260422T150000
DTEND;TZID=Europe/Berlin:20260422T154500
LOCATION:Grundschulturnhalle\, Oettinger Straße 16\, 86650 Wemding
END:VEVENT
END:VCALENDAR
