BEGIN:VCALENDAR
VERSION:2.0
PRODID:-//Sabre//Sabre VObject 4.5.8//EN
CALSCALE:GREGORIAN
BEGIN:VEVENT
UID:sabre-vobject-b2a2de2b-153c-48d1-ab4a-8f3b097f1be0
DTSTAMP:20260421T085951Z
SUMMARY:Gymnastik für Senioren - Altersgerechtes Bewegen unter Anleitung
DESCRIPTION:https://keb-donauries.de/veranstaltungen/gymnastik-fuer-seniore
 n-altersgerechtes-bewegen-unter-anleitung_id311511
DTSTART;TZID=Europe/Berlin:20260304T150000
DTEND;TZID=Europe/Berlin:20260304T154500
LOCATION:Grundschulturnhalle\, Oettinger Straße 16\, 86650 Wemding
END:VEVENT
END:VCALENDAR
