BEGIN:VCALENDAR
VERSION:2.0
PRODID:-//Sabre//Sabre VObject 4.5.8//EN
CALSCALE:GREGORIAN
BEGIN:VEVENT
UID:sabre-vobject-fc1c409a-1fd6-4cd5-953f-fe5978ffa84c
DTSTAMP:20260425T135642Z
SUMMARY:Gymnastik für Senioren - Altersgerechtes Bewegen unter Anleitung
DESCRIPTION:https://keb-donauries.de/veranstaltungen/gymnastik-fuer-seniore
 n-altersgerechtes-bewegen-unter-anleitung_id311495
DTSTART;TZID=Europe/Berlin:20260427T150000
DTEND;TZID=Europe/Berlin:20260427T154500
LOCATION:Grundschulturnhalle\, Oettinger Straße 1\, 86650 Wemding
END:VEVENT
END:VCALENDAR
