BEGIN:VCALENDAR
VERSION:2.0
PRODID:-//Sabre//Sabre VObject 4.5.8//EN
CALSCALE:GREGORIAN
BEGIN:VEVENT
UID:sabre-vobject-5316103c-86d1-45b0-8620-bd3f4b7b2471
DTSTAMP:20260421T104341Z
SUMMARY:Passt der christliche Glaube in die moderne Gesellschaft?
DESCRIPTION:https://keb-donauries.de/veranstaltungen/passt-der-christliche-
 glaube-in-die-moderne-gesellschaft_id300521
DTSTART;TZID=Europe/Berlin:20260324T190000
LOCATION:Pfarrheim "Zu Unserer Lieben Frau"\, Münsterplatz 4\, 86609 Donau
 wörth
END:VEVENT
END:VCALENDAR
