BEGIN:VCALENDAR
VERSION:2.0
PRODID:-//Sabre//Sabre VObject 4.5.8//EN
CALSCALE:GREGORIAN
BEGIN:VEVENT
UID:sabre-vobject-f8889316-59ca-4e94-9b87-f03800948e7d
DTSTAMP:20260422T203346Z
SUMMARY:Eltern-Kind-Gruppe Tapfheim  Freitag 09:30-11:00 Uhr
DESCRIPTION:https://keb-donauries.de/veranstaltungen/eltern-kind-gruppe-tap
 fheim-freitag-09-30-11-00-uhr_id299382
DTSTART;TZID=Europe/Berlin:20260522T093000
DTEND;TZID=Europe/Berlin:20260522T110000
LOCATION:Pfarrheim Donaumünster\, Reichenbachstraße 5\, 86660 Tapfheim
END:VEVENT
END:VCALENDAR
