BEGIN:VCALENDAR
VERSION:2.0
PRODID:-//Sabre//Sabre VObject 4.5.8//EN
CALSCALE:GREGORIAN
BEGIN:VEVENT
UID:sabre-vobject-1652e49d-53bb-40cf-80ab-23aa5d6c834c
DTSTAMP:20260422T170951Z
SUMMARY:Eltern-Kind-Gruppe Tapfheim  Freitag 09:30-11:00 Uhr
DESCRIPTION:https://keb-donauries.de/veranstaltungen/eltern-kind-gruppe-tap
 fheim-freitag-09-30-11-00-uhr_id299380
DTSTART;TZID=Europe/Berlin:20260508T093000
DTEND;TZID=Europe/Berlin:20260508T110000
LOCATION:Pfarrheim Donaumünster\, Reichenbachstraße 5\, 86660 Tapfheim
END:VEVENT
END:VCALENDAR
