BEGIN:VCALENDAR
VERSION:2.0
PRODID:-//Sabre//Sabre VObject 4.5.8//EN
CALSCALE:GREGORIAN
BEGIN:VEVENT
UID:sabre-vobject-7be965ed-ea76-4528-9685-2578c4250498
DTSTAMP:20260422T202021Z
SUMMARY:Eltern-Kind-Gruppe Rögling Montag 09:30-11:00 Uhr
DESCRIPTION:https://keb-donauries.de/veranstaltungen/eltern-kind-gruppe-roe
 gling-montag-09-30-11-00-uhr_id299330
DTSTART;TZID=Europe/Berlin:20260525T093000
DTEND;TZID=Europe/Berlin:20260525T110000
LOCATION:Nadlerhaus Rögling\, Bgm.-Böswald-Straße 10\, 86703 Rögling
END:VEVENT
END:VCALENDAR
