BEGIN:VCALENDAR
VERSION:2.0
PRODID:-//Sabre//Sabre VObject 4.5.8//EN
CALSCALE:GREGORIAN
BEGIN:VEVENT
UID:sabre-vobject-c0e39eec-c779-435e-9694-d17464e6289c
DTSTAMP:20260422T170951Z
SUMMARY:Eltern-Kind-Gruppe Rögling Montag 09:30-11:00 Uhr
DESCRIPTION:https://keb-donauries.de/veranstaltungen/eltern-kind-gruppe-roe
 gling-montag-09-30-11-00-uhr_id299328
DTSTART;TZID=Europe/Berlin:20260511T093000
DTEND;TZID=Europe/Berlin:20260511T110000
LOCATION:Nadlerhaus Rögling\, Bgm.-Böswald-Straße 10\, 86703 Rögling
END:VEVENT
END:VCALENDAR
