BEGIN:VCALENDAR
VERSION:2.0
PRODID:-//Sabre//Sabre VObject 4.5.8//EN
CALSCALE:GREGORIAN
BEGIN:VEVENT
UID:sabre-vobject-f698172f-d937-427d-bb19-1bfbf036e003
DTSTAMP:20260422T155440Z
SUMMARY:Eltern-Kind-Gruppe Rögling Montag 09:30-11:00 Uhr
DESCRIPTION:https://keb-donauries.de/veranstaltungen/eltern-kind-gruppe-roe
 gling-montag-09-30-11-00-uhr_id299327
DTSTART;TZID=Europe/Berlin:20260504T093000
DTEND;TZID=Europe/Berlin:20260504T110000
LOCATION:Nadlerhaus Rögling\, Bgm.-Böswald-Straße 10\, 86703 Rögling
END:VEVENT
END:VCALENDAR
