BEGIN:VCALENDAR
VERSION:2.0
PRODID:-//Sabre//Sabre VObject 4.5.8//EN
CALSCALE:GREGORIAN
BEGIN:VEVENT
UID:sabre-vobject-566517cc-183b-411d-a620-4728a22e1b49
DTSTAMP:20260422T214345Z
SUMMARY:Eltern-Kind-Gruppe - Krabbelgruppe Otting Freitag 09:30-11:00Uhr
DESCRIPTION:https://keb-donauries.de/veranstaltungen/eltern-kind-gruppe-kra
 bbelgruppe-otting-freitag-09-30-11-00uhr_id299304
DTSTART;TZID=Europe/Berlin:20260522T093000
DTEND;TZID=Europe/Berlin:20260522T110000
LOCATION:Kindergarten Otting\, Wolferstädter Straße 2A\, 86700 Otting
END:VEVENT
END:VCALENDAR
