BEGIN:VCALENDAR
VERSION:2.0
PRODID:-//Sabre//Sabre VObject 4.5.8//EN
CALSCALE:GREGORIAN
BEGIN:VEVENT
UID:sabre-vobject-74334302-1822-45ff-983d-8242cf387ff2
DTSTAMP:20260422T201957Z
SUMMARY:Eltern-Kind-Gruppe: Krabbelgruppe Mündling - Freitag 09:30-11:00 U
 hr
DESCRIPTION:https://keb-donauries.de/veranstaltungen/eltern-kind-gruppe-kra
 bbelgruppe-muendling-freitag-09-30-11-00-uhr_id297823
DTSTART;TZID=Europe/Berlin:20260522T093000
DTEND;TZID=Europe/Berlin:20260522T110000
LOCATION:Pfarrheim Mündling\, Luggasse 1\, 86655 Harburg (Schwaben)
END:VEVENT
END:VCALENDAR
