BEGIN:VCALENDAR
VERSION:2.0
PRODID:-//Sabre//Sabre VObject 4.5.8//EN
CALSCALE:GREGORIAN
BEGIN:VEVENT
UID:sabre-vobject-81f04c78-3962-4075-8226-e4ebd99a3e5a
DTSTAMP:20260422T184208Z
SUMMARY:Eltern-Kind-Gruppe: Krabbelgruppe Mündling - Freitag 09:30-11:00 U
 hr
DESCRIPTION:https://keb-donauries.de/veranstaltungen/eltern-kind-gruppe-kra
 bbelgruppe-muendling-freitag-09-30-11-00-uhr_id297822
DTSTART;TZID=Europe/Berlin:20260515T093000
DTEND;TZID=Europe/Berlin:20260515T110000
LOCATION:Pfarrheim Mündling\, Luggasse 1\, 86655 Harburg (Schwaben)
END:VEVENT
END:VCALENDAR
