BEGIN:VCALENDAR
VERSION:2.0
PRODID:-//Sabre//Sabre VObject 4.5.8//EN
CALSCALE:GREGORIAN
BEGIN:VEVENT
UID:sabre-vobject-2ada302f-cb9e-492f-ba80-2b15bfdb0e4f
DTSTAMP:20260422T171023Z
SUMMARY:Eltern-Kind-Gruppe: Krabbelgruppe Mündling - Freitag 09:30-11:00 U
 hr
DESCRIPTION:https://keb-donauries.de/veranstaltungen/eltern-kind-gruppe-kra
 bbelgruppe-muendling-freitag-09-30-11-00-uhr_id297821
DTSTART;TZID=Europe/Berlin:20260508T093000
DTEND;TZID=Europe/Berlin:20260508T110000
LOCATION:Pfarrheim Mündling\, Luggasse 1\, 86655 Harburg (Schwaben)
END:VEVENT
END:VCALENDAR
