BEGIN:VCALENDAR
VERSION:2.0
PRODID:-//Sabre//Sabre VObject 4.5.8//EN
CALSCALE:GREGORIAN
BEGIN:VEVENT
UID:sabre-vobject-a68286a2-166d-43fe-9a8e-088be0ef0fd7
DTSTAMP:20260422T184138Z
SUMMARY:Eltern-Kind-Gruppe: Krabbelgruppe Oberndorf-Eggelstetten I - Dienst
 ag 09:30-11:00 Uhr
DESCRIPTION:https://keb-donauries.de/veranstaltungen/eltern-kind-gruppe-kra
 bbelgruppe-oberndorf-eggelstetten-i-dienstag-09-30-11-00-uhr_id297799
DTSTART;TZID=Europe/Berlin:20260519T093000
DTEND;TZID=Europe/Berlin:20260519T110000
LOCATION:Pfarrheim Oberndorf\, Raiffeisenstraße 17\, 86698 Oberndorf am Le
 ch
END:VEVENT
END:VCALENDAR
