BEGIN:VCALENDAR
VERSION:2.0
PRODID:-//Sabre//Sabre VObject 4.5.8//EN
CALSCALE:GREGORIAN
BEGIN:VEVENT
UID:sabre-vobject-efa83d1d-b3d2-4416-9755-878f56f2d6bc
DTSTAMP:20260422T170850Z
SUMMARY:Eltern-Kind-Gruppe: Krabbelgruppe Oberndorf-Eggelstetten I - Dienst
 ag 09:30-11:00 Uhr
DESCRIPTION:https://keb-donauries.de/veranstaltungen/eltern-kind-gruppe-kra
 bbelgruppe-oberndorf-eggelstetten-i-dienstag-09-30-11-00-uhr_id297798
DTSTART;TZID=Europe/Berlin:20260512T093000
DTEND;TZID=Europe/Berlin:20260512T110000
LOCATION:Pfarrheim Oberndorf\, Raiffeisenstraße 17\, 86698 Oberndorf am Le
 ch
END:VEVENT
END:VCALENDAR
