BEGIN:VCALENDAR
VERSION:2.0
PRODID:-//Sabre//Sabre VObject 4.5.8//EN
CALSCALE:GREGORIAN
BEGIN:VEVENT
UID:sabre-vobject-40392f96-385a-4e33-a166-f5036a4bc28e
DTSTAMP:20260423T000259Z
SUMMARY:Die Tradition des Marientragens
DESCRIPTION:https://keb-donauries.de/veranstaltungen/die-tradition-des-mari
 entragens_id297677
DTSTART;TZID=Europe/Berlin:20261203T190000
LOCATION:Kath. Pfarrheim Deiningen\, St.-Martin-Straße 6\, 86738 Deiningen
END:VEVENT
END:VCALENDAR
