BEGIN:VCALENDAR
VERSION:2.0
PRODID:-//Sabre//Sabre VObject 4.5.8//EN
CALSCALE:GREGORIAN
BEGIN:VEVENT
UID:sabre-vobject-06de983c-6c2e-4830-a641-727f26a9639e
DTSTAMP:20260421T085741Z
SUMMARY:Bildungsfahrt zum Holunderhof nach Lohe
DESCRIPTION:https://keb-donauries.de/veranstaltungen/bildungsfahrt-zum-holu
 nderhof-nach-lohe_id297674
DTSTART;TZID=Europe/Berlin:20260520T140000
LOCATION:Kath. Pfarrheim Deiningen\, St.-Martin-Straße 6\, 86738 Deiningen
END:VEVENT
END:VCALENDAR
