BEGIN:VCALENDAR
VERSION:2.0
PRODID:-//Sabre//Sabre VObject 4.5.8//EN
CALSCALE:GREGORIAN
BEGIN:VEVENT
UID:sabre-vobject-93a780c1-e334-429a-bd24-c8caa8660c41
DTSTAMP:20260423T000602Z
SUMMARY:Rückblick auf das Festjahr des Frauenbundes 2025
DESCRIPTION:https://keb-donauries.de/veranstaltungen/rueckblick-auf-das-fes
 tjahr-des-frauenbundes-2025_id297670
DTSTART;TZID=Europe/Berlin:20260507T200000
LOCATION:Kath. Pfarrheim Deiningen\, St.-Martin-Straße 6\, 86738 Deiningen
END:VEVENT
END:VCALENDAR
