BEGIN:VCALENDAR
VERSION:2.0
PRODID:-//Sabre//Sabre VObject 4.5.8//EN
CALSCALE:GREGORIAN
BEGIN:VEVENT
UID:sabre-vobject-c890fcad-5082-4535-987a-b2449f316c2e
DTSTAMP:20260425T182534Z
SUMMARY:Eltern-Kind-Gruppe: Krabbelgruppe Kaisheim Mittwoch 15:00-16:30 Uhr
DESCRIPTION:https://keb-donauries.de/veranstaltungen/eltern-kind-gruppe-kra
 bbelgruppe-kaisheim-mittwoch-15-00-16-30-uhr_id297639
DTSTART;TZID=Europe/Berlin:20260603T150000
DTEND;TZID=Europe/Berlin:20260603T163000
LOCATION:Krabbelgruppenraum Kaisheim\, Hauptstraße 44\, 86687 Kaisheim
END:VEVENT
END:VCALENDAR
