BEGIN:VCALENDAR
VERSION:2.0
PRODID:-//Sabre//Sabre VObject 4.5.8//EN
CALSCALE:GREGORIAN
BEGIN:VEVENT
UID:sabre-vobject-f8bd755f-5127-49d3-a75e-f2c91748436a
DTSTAMP:20260425T181915Z
SUMMARY:Eltern-Kind-Gruppe: Krabbelgruppe Kaisheim Mittwoch 09:00 - 10:30 U
 hr
DESCRIPTION:https://keb-donauries.de/veranstaltungen/eltern-kind-gruppe-kra
 bbelgruppe-kaisheim-mittwoch-09-00-10-30-uhr_id297629
DTSTART;TZID=Europe/Berlin:20260607T090000
DTEND;TZID=Europe/Berlin:20260607T103000
LOCATION:Krabbelgruppenraum Kaisheim\, Hauptstraße 44\, 86687 Kaisheim
END:VEVENT
END:VCALENDAR
