BEGIN:VCALENDAR
VERSION:2.0
PRODID:-//Sabre//Sabre VObject 4.5.8//EN
CALSCALE:GREGORIAN
BEGIN:VEVENT
UID:sabre-vobject-d6a1b2f5-2ae7-4c00-a02f-123a8af93245
DTSTAMP:20260423T130115Z
SUMMARY:Eltern-Kind-Gruppe 2 Frauenbund - Mittwoch 10:00 - 11:30 Uhr
DESCRIPTION:https://keb-donauries.de/veranstaltungen/eltern-kind-gruppe-2-f
 rauenbund-mittwoch-10-00-11-30-uhr_id297618
DTSTART;TZID=Europe/Berlin:20260624T100000
DTEND;TZID=Europe/Berlin:20260624T113000
LOCATION:Gruppenraum im Feuerwehrhaus Pessenburgheim\, Ringstraße 3\, 8668
 4 Holzheim
END:VEVENT
END:VCALENDAR
