BEGIN:VCALENDAR
VERSION:2.0
PRODID:-//Sabre//Sabre VObject 4.5.8//EN
CALSCALE:GREGORIAN
BEGIN:VEVENT
UID:sabre-vobject-ae80fbee-2fda-4ab0-bb99-c89932405d29
DTSTAMP:20260423T024238Z
SUMMARY:Eltern-Kind-Gruppe 2 Frauenbund - Mittwoch 10:00 - 11:30 Uhr
DESCRIPTION:https://keb-donauries.de/veranstaltungen/eltern-kind-gruppe-2-f
 rauenbund-mittwoch-10-00-11-30-uhr_id297616
DTSTART;TZID=Europe/Berlin:20260610T100000
DTEND;TZID=Europe/Berlin:20260610T113000
LOCATION:Gruppenraum im Feuerwehrhaus Pessenburgheim\, Ringstraße 3\, 8668
 4 Holzheim
END:VEVENT
END:VCALENDAR
