BEGIN:VCALENDAR
VERSION:2.0
PRODID:-//Sabre//Sabre VObject 4.5.8//EN
CALSCALE:GREGORIAN
BEGIN:VEVENT
UID:sabre-vobject-758d6370-645f-4dd5-81a4-349d012fffc1
DTSTAMP:20260422T203527Z
SUMMARY:Eltern-Kind-Gruppe 2 Frauenbund - Mittwoch 10:00 - 11:30 Uhr
DESCRIPTION:https://keb-donauries.de/veranstaltungen/eltern-kind-gruppe-2-f
 rauenbund-mittwoch-10-00-11-30-uhr_id297613
DTSTART;TZID=Europe/Berlin:20260520T100000
DTEND;TZID=Europe/Berlin:20260520T113000
LOCATION:Gruppenraum im Feuerwehrhaus Pessenburgheim\, Ringstraße 3\, 8668
 4 Holzheim
END:VEVENT
END:VCALENDAR
