BEGIN:VCALENDAR
VERSION:2.0
PRODID:-//Sabre//Sabre VObject 4.5.8//EN
CALSCALE:GREGORIAN
BEGIN:VEVENT
UID:sabre-vobject-8c303297-d70d-4a1a-9114-29d28ee0000b
DTSTAMP:20260419T155134Z
SUMMARY:Eltern-Kind-Gruppe 2 Frauenbund - Mittwoch 10:00 - 11:30 Uhr
DESCRIPTION:https://keb-donauries.de/veranstaltungen/eltern-kind-gruppe-2-f
 rauenbund-mittwoch-10-00-11-30-uhr_id297609
DTSTART;TZID=Europe/Berlin:20260422T100000
DTEND;TZID=Europe/Berlin:20260422T113000
LOCATION:Gruppenraum im Feuerwehrhaus Pessenburgheim\, Ringstraße 3\, 8668
 4 Holzheim
END:VEVENT
END:VCALENDAR
