BEGIN:VCALENDAR
VERSION:2.0
PRODID:-//Sabre//Sabre VObject 4.5.8//EN
CALSCALE:GREGORIAN
BEGIN:VEVENT
UID:sabre-vobject-2990eff5-f8f2-4222-b6fc-0a956a50fa18
DTSTAMP:20260423T201909Z
SUMMARY:Eltern-Kind-Gruppe 1 Frauenbund - Mittwoch 08:30-10:00 Uhr
DESCRIPTION:https://keb-donauries.de/veranstaltungen/eltern-kind-gruppe-1-f
 rauenbund-mittwoch-08-30-10-00-uhr_id297584
DTSTART;TZID=Europe/Berlin:20260527T083000
DTEND;TZID=Europe/Berlin:20260527T100000
LOCATION:Gruppenraum im Feuerwehrhaus Pessenburgheim\, Ringstraße 3\, 8668
 4 Holzheim
END:VEVENT
END:VCALENDAR
