BEGIN:VCALENDAR
VERSION:2.0
PRODID:-//Sabre//Sabre VObject 4.5.8//EN
CALSCALE:GREGORIAN
BEGIN:VEVENT
UID:sabre-vobject-f6af8026-2089-46c3-8f97-224a8eeb089a
DTSTAMP:20260422T185145Z
SUMMARY:Eltern-Kind-Gruppe 1 Frauenbund - Mittwoch 08:30-10:00 Uhr
DESCRIPTION:https://keb-donauries.de/veranstaltungen/eltern-kind-gruppe-1-f
 rauenbund-mittwoch-08-30-10-00-uhr_id297583
DTSTART;TZID=Europe/Berlin:20260520T083000
DTEND;TZID=Europe/Berlin:20260520T100000
LOCATION:Gruppenraum im Feuerwehrhaus Pessenburgheim\, Ringstraße 3\, 8668
 4 Holzheim
END:VEVENT
END:VCALENDAR
