BEGIN:VCALENDAR
VERSION:2.0
PRODID:-//Sabre//Sabre VObject 4.5.8//EN
CALSCALE:GREGORIAN
BEGIN:VEVENT
UID:sabre-vobject-3feff550-7a8f-4be1-b772-237cf5c7f604
DTSTAMP:20260422T192052Z
SUMMARY:Eltern-Kind-Gruppe 1 Frauenbund - Mittwoch 08:30-10:00 Uhr
DESCRIPTION:https://keb-donauries.de/veranstaltungen/eltern-kind-gruppe-1-f
 rauenbund-mittwoch-08-30-10-00-uhr_id297581
DTSTART;TZID=Europe/Berlin:20260506T083000
DTEND;TZID=Europe/Berlin:20260506T100000
LOCATION:Gruppenraum im Feuerwehrhaus Pessenburgheim\, Ringstraße 3\, 8668
 4 Holzheim
END:VEVENT
END:VCALENDAR
