BEGIN:VCALENDAR
VERSION:2.0
PRODID:-//Sabre//Sabre VObject 4.5.8//EN
CALSCALE:GREGORIAN
BEGIN:VEVENT
UID:sabre-vobject-6a62f110-e5df-4b88-b30d-611cac291b43
DTSTAMP:20260422T203701Z
SUMMARY:Eltern-Kind-Gruppe 3 Frauenbund - Donnerstag 09:30-11:00 Uhr
DESCRIPTION:https://keb-donauries.de/veranstaltungen/eltern-kind-gruppe-3-f
 rauenbund-donnerstag-09-30-11-00-uhr_id297555
DTSTART;TZID=Europe/Berlin:20260521T093000
DTEND;TZID=Europe/Berlin:20260521T110000
LOCATION:Gruppenraum im Feuerwehrhaus Pessenburgheim\, Ringstraße 3\, 8668
 4 Holzheim
END:VEVENT
END:VCALENDAR
